BEGIN:VCALENDAR
VERSION:2.0
PRODID:-//eventon.com NONSGML v1.0//EN
CALSCALE:GREGORIAN
METHOD:PUBLISH
BEGIN:VEVENT
UID:69e6bf0c3c6d0
DTSTAMP:20260421T000428Z
DTSTART:20251113T220000Z
DTEND:20251114T000000Z
LOCATION:Kenneth Hahn Hall of Administration 500 West Temple St.\,  Room 374-A
SUMMARY:Homeless Policy Deputies Meetings
DESCRIPTION:November 13\,  2025 Homeless Policy Deputies Agenda  See past 
 Homeless Policy Deputies agendas here \nhttps://ceo.lacounty.gov/events/ho
 meless-policy-deputies-meetings-copy-4/
URL:https://ceo.lacounty.gov/events/homeless-policy-deputies-meetings-copy-4/
END:VEVENT
END:VCALENDAR